BEGIN:VCALENDAR
VERSION:2.0
PRODID:-//The Michi Sleep Academy - ECPv6.15.1.1//NONSGML v1.0//EN
CALSCALE:GREGORIAN
METHOD:PUBLISH
X-WR-CALNAME:The Michi Sleep Academy
X-ORIGINAL-URL:https://themichisleepacademy.com
X-WR-CALDESC:Events for The Michi Sleep Academy
REFRESH-INTERVAL;VALUE=DURATION:PT1H
X-Robots-Tag:noindex
X-PUBLISHED-TTL:PT1H
BEGIN:VTIMEZONE
TZID:Asia/Krasnoyarsk
BEGIN:STANDARD
TZOFFSETFROM:+0700
TZOFFSETTO:+0700
TZNAME:+07
DTSTART:20180101T000000
END:STANDARD
END:VTIMEZONE
BEGIN:VTIMEZONE
TZID:Asia/Shanghai
BEGIN:STANDARD
TZOFFSETFROM:+0800
TZOFFSETTO:+0800
TZNAME:CST
DTSTART:20160101T000000
END:STANDARD
END:VTIMEZONE
BEGIN:VEVENT
DTSTART;TZID=Asia/Krasnoyarsk:20180508T100000
DTEND;TZID=Asia/Krasnoyarsk:20180508T103000
DTSTAMP:20260423T210519
CREATED:20180504T050213Z
LAST-MODIFIED:20180504T171636Z
UID:5776-1525773600-1525775400@themichisleepacademy.com
SUMMARY:Weekly Q & A
DESCRIPTION:Join me on our Facebook Group for our weekly Q & A.
URL:https://themichisleepacademy.com/event/weekly-q-a/
END:VEVENT
BEGIN:VEVENT
DTSTART;TZID=Asia/Shanghai:20161130T113000
DTEND;TZID=Asia/Shanghai:20161130T123000
DTSTAMP:20260423T210519
CREATED:20161130T055826Z
LAST-MODIFIED:20161130T055901Z
UID:4797-1480505400-1480509000@themichisleepacademy.com
SUMMARY:Facebook Q & A
DESCRIPTION:Got sleep questions? This is the perfect time for you to ask me your sleepy questions.
URL:https://themichisleepacademy.com/event/facebook-q-a/
LOCATION:Facebook Group
END:VEVENT
END:VCALENDAR